BEGIN:VCALENDAR
VERSION:2.0
PRODID:GIGPRESS 2.0 WORDPRESS PLUGIN
CALSCALE:GREGORIAN
X-WR-TIMEZONE:Etc/GMT
METHOD:PUBLISH
BEGIN:VTIMEZONE
TZID:GMT
BEGIN:STANDARD
DTSTART:20071028T010000
TZOFFSETTO:+0000
TZOFFSETFROM:+0000
END:STANDARD
END:VTIMEZONE
BEGIN:VEVENT
SUMMARY:Anne Weiss at CJ Clubhouse - Portland Casual Jams
DESCRIPTION:
LOCATION:CJ Clubhouse - Portland Casual Jams\, Portland\, US
UID:20260422T190000Z-174-apsweene@yahoo.com
URL:http://anneweiss.com/shows/
DTSTART;VALUE=DATE-TIME;TZID=GMT:20260422T190000Z
DTEND;VALUE=DATE-TIME;TZID=GMT:20260422T190000Z
DTSTAMP:20260421T105445Z
END:VEVENT
END:VCALENDAR